BEGIN:VCALENDAR
VERSION:2.0
PRODID:-//178.249.155.143//NONSGML kigkonsult.se iCalcreator 2.20//
CALSCALE:GREGORIAN
METHOD:PUBLISH
X-WR-TIMEZONE:Europe/Amsterdam
BEGIN:VEVENT
UID:event423@Duikbuddygezocht.nl
DTSTAMP:20260422T183120Z
CATEGORIES:Duikbuddygezocht.nl
DESCRIPTION:meerse plas dungens gat\nCategorie: Duikbuddygezocht.nl\nLink: 
 https://www.duikbuddygezocht.nl/index.php?option=com_jem&view=event&id=423
 :meerse-plas-dungens-gat\n
DTSTART;TZID=Europe/Amsterdam:20260423T100000
DTEND;TZID=Europe/Amsterdam:20260423T123000
LOCATION:Meerse Plas\,Meersestraat 1\,5275 GZ Den dungen
SUMMARY:meerse plas dungens gat
URL:https://www.duikbuddygezocht.nl/index.php?option=com_jem&view=event&id=
 423:meerse-plas-dungens-gat
END:VEVENT
END:VCALENDAR