BEGIN:VCALENDAR
VERSION:2.0
PRODID:-//178.249.155.143//NONSGML kigkonsult.se iCalcreator 2.20//
CALSCALE:GREGORIAN
METHOD:PUBLISH
X-WR-TIMEZONE:Europe/Amsterdam
BEGIN:VEVENT
UID:event421@Duikbuddygezocht.nl
DTSTAMP:20260423T043215Z
CATEGORIES:Duikbuddygezocht.nl
DESCRIPTION:Lithse ham\nCategorie: Duikbuddygezocht.nl\nLink: https://www.d
 uikbuddygezocht.nl/index.php?option=com_jem&view=event&id=421:lithse-ham\n
DTSTART;TZID=Europe/Amsterdam:20260502T090000
DTEND;TZID=Europe/Amsterdam:20260502T123000
LOCATION:Lithse Ham\,De Lithse Ham 4\,5397 GL  Lith
SUMMARY:Lithse ham
URL:https://www.duikbuddygezocht.nl/index.php?option=com_jem&view=event&id=
 421:lithse-ham
END:VEVENT
END:VCALENDAR