BEGIN:VCALENDAR
VERSION:2.0
PRODID:-//178.249.155.143//NONSGML kigkonsult.se iCalcreator 2.20//
CALSCALE:GREGORIAN
METHOD:PUBLISH
X-WR-TIMEZONE:Europe/Amsterdam
BEGIN:VEVENT
UID:event290@Duikbuddygezocht.nl
DTSTAMP:20260419T232747Z
CATEGORIES:Duikbuddygezocht.nl
DESCRIPTION:Haarlemmermeerse Bos Paviljoen\nCategorie: Duikbuddygezocht.nl
 \nLink: https://www.duikbuddygezocht.nl/index.php?option=com_jem&view=even
 t&id=290:haarlemmermeerse-bos-paviljoen\n
DTSTART;TZID=Europe/Amsterdam:20251020T190000
DTEND;TZID=Europe/Amsterdam:20251020T210000
LOCATION:Haarlemmermeersebos paviljoen\,Paviljoenlaan1\,2131LZ Hoofddorp
SUMMARY:Haarlemmermeerse Bos Paviljoen
URL:https://www.duikbuddygezocht.nl/index.php?option=com_jem&view=event&id=
 290:haarlemmermeerse-bos-paviljoen
END:VEVENT
END:VCALENDAR