BEGIN:VCALENDAR
VERSION:2.0
PRODID:-//178.249.155.143//NONSGML kigkonsult.se iCalcreator 2.20//
CALSCALE:GREGORIAN
METHOD:PUBLISH
X-WR-TIMEZONE:Europe/Amsterdam
BEGIN:VEVENT
UID:event263@Duikbuddygezocht.nl
DTSTAMP:20260419T172628Z
CATEGORIES:Duikbuddygezocht.nl
DESCRIPTION:Zwembad training (onder voor behoud)\nCategorie: Duikbuddygezoc
 ht.nl\nLink: https://www.duikbuddygezocht.nl/index.php?option=com_jem&view
 =event&id=263:zwembad-training\n
DTSTART;TZID=Europe/Amsterdam:20260407T204000
DTEND;TZID=Europe/Amsterdam:20260407T223000
LOCATION:Zwembad Reeshof\,Heereveldendreef 8-10\,5043 EX Tilburg
SUMMARY:Zwembad training (onder voor behoud)
URL:https://www.duikbuddygezocht.nl/index.php?option=com_jem&view=event&id=
 263:zwembad-training
END:VEVENT
END:VCALENDAR